BEGIN:VCALENDAR
VERSION:2.0
PRODID:-//Tukios.com/
BEGIN:VEVENT
UID:8f656842-977c-4fa5-a43e-bdea3aeadfd6@www.zellmanfuneralhome.com
DTSTAMP:20260422T200014Z
DTSTART:20260427T150000Z
DTEND:20260427T160000Z
SUMMARY:Visitation
DESCRIPTION:
URL:https://www.zellmanfuneralhome.com/obituaries/golden-donna-turnbaugh
LOCATION: 927 Pulaski Hwy  Havre De Grace MD 21078
GEO:39.550252;-76.1044463
END:VEVENT
END:VCALENDAR