BEGIN:VCALENDAR
VERSION:2.0
PRODID:-//Tukios.com/
BEGIN:VEVENT
UID:40eb432f-bdf9-414e-9c07-443090a2022d@www.zellmanfuneralhome.com
DTSTAMP:20260422T200421Z
DTSTART:20260427T160000Z
DTEND:20260427T170000Z
SUMMARY:Funeral Service
DESCRIPTION:
URL:https://www.zellmanfuneralhome.com/obituaries/golden-donna-turnbaugh
LOCATION: 927 Pulaski Hwy  Havre De Grace MD 21078
GEO:39.550252;-76.1044463
END:VEVENT
END:VCALENDAR