BEGIN:VCALENDAR
VERSION:2.0
PRODID:-//Tukios.com/
BEGIN:VEVENT
UID:30d58c86-547a-440d-abf7-174f072ab7d7@www.zellmanfuneralhome.com
DTSTAMP:20260422T001451Z
DTSTART:20260427T140000Z
DTEND:20260427T150000Z
SUMMARY:Mass
DESCRIPTION:
URL:https://www.zellmanfuneralhome.com/obituaries/john-trancucci
LOCATION:St. Patrick's Catholic Church 615 Congress Avenue  Havre de 
	Grace MD 21078
GEO:39.5479494;-76.0937028
END:VEVENT
END:VCALENDAR