BEGIN:VCALENDAR
VERSION:2.0
PRODID:-//Tukios.com/
BEGIN:VEVENT
UID:ebd698f8-bd48-4c97-83c8-d38c3012753f@www.zellmanfuneralhome.com
DTSTAMP:20260422T000734Z
DTSTART:20260426T190000Z
DTEND:20260426T220000Z
SUMMARY:Public Viewing
DESCRIPTION:
URL:https://www.zellmanfuneralhome.com/obituaries/john-trancucci
LOCATION:Zellman Funeral Home, P.A. 927 Pulaski Highway  Havre de Grace 
	MD 21078
GEO:39.550252;-76.1044463
END:VEVENT
END:VCALENDAR