BEGIN:VCALENDAR
VERSION:2.0
PRODID:-//Tukios.com/
BEGIN:VEVENT
UID:b07c94a3-bdf7-49a3-bf6f-f4bd88acda55@www.zellmanfuneralhome.com
DTSTAMP:20260425T172642Z
DTSTART:20260428T140000Z
DTEND:20260428T150000Z
SUMMARY:Visitation
DESCRIPTION:
URL:https://www.zellmanfuneralhome.com/obituaries/william-wisham-jr
LOCATION:Zellman Funeral Home, P.A. 927 Pulaski Hwy  Havre De Grace MD 
	21078
GEO:39.550252;-76.1044463
END:VEVENT
END:VCALENDAR