BEGIN:VCALENDAR
VERSION:2.0
PRODID:-//Tukios.com/
BEGIN:VEVENT
UID:34cfc3da-89fd-4604-bc35-1ad6ef4a94f1@www.zellmanfuneralhome.com
DTSTAMP:20260425T172503Z
DTSTART:20260428T150000Z
DTEND:20260428T160000Z
SUMMARY:Funeral Service
DESCRIPTION:
URL:https://www.zellmanfuneralhome.com/obituaries/william-wisham-jr
LOCATION:Zellman Funeral Home, P.A. 927 Pulaski Hwy  Havre De Grace MD 
	21078
GEO:39.550252;-76.1044463
END:VEVENT
END:VCALENDAR